BEGIN:VCALENDAR
VERSION:2.0
PRODID:spatie/icalendar-generator
DESCRIPTION:Events from Ken-Caryl Ranch
X-WR-CALDESC:Events from Ken-Caryl Ranch
REFRESH-INTERVAL;VALUE=DURATION:PT1440M
X-PUBLISHED-TTL:PT1440M
BEGIN:VTIMEZONE
TZID:America/Denver
BEGIN:DAYLIGHT
DTSTART:20240310T020000Z
TZOFFSETFROM:-0700
TZOFFSETTO:-0600
END:DAYLIGHT
BEGIN:STANDARD
DTSTART:20241103T020000Z
TZOFFSETFROM:-0600
TZOFFSETTO:-0700
END:STANDARD
BEGIN:DAYLIGHT
DTSTART:20250309T020000Z
TZOFFSETFROM:-0700
TZOFFSETTO:-0600
END:DAYLIGHT
END:VTIMEZONE
BEGIN:VTIMEZONE
TZID:UTC
BEGIN:STANDARD
DTSTART:20250727T213332Z
TZOFFSETFROM:+0000
TZOFFSETTO:+0000
END:STANDARD
END:VTIMEZONE
BEGIN:VEVENT
UID:1379-11
DTSTAMP:20260423T213332Z
SUMMARY:Open Space Committee
LOCATION:Ranch House 7676 S Continental Divide Rd  Littleton  CO 80127
ORGANIZER;CN=April Crockett:MAILTO:aprilc@kcranch.org
DTSTART;TZID=America/Denver:20240910T180000
DTEND;TZID=America/Denver:20240910T200000
X-ALT-DESC;FMTTYPE=TEXT/HTML:For questions\, contact Open Space Manager Mat
 t Oven at matto@kcranch.org. Meetings may be virtual. The meeting is open 
 to the public\, and the meeting agenda can be viewed on on our Committees 
 and Task Force page. Please check the meeting agenda for details. Zoom: ht
 tps://us02web.zoom.us/j/84188143116 Phone: 719.359.4580 Webinar ID: 841 88
 14 3116
CATEGORIES:Meetings
URL;VALUE=URI:https://ken-carylranch.org/mc-events/open-space-committee-3/
METHOD:PUBLISH
END:VEVENT
END:VCALENDAR