BEGIN:VCALENDAR
VERSION:2.0
PRODID:spatie/icalendar-generator
DESCRIPTION:Events from Ken-Caryl Ranch
X-WR-CALDESC:Events from Ken-Caryl Ranch
REFRESH-INTERVAL;VALUE=DURATION:PT1440M
X-PUBLISHED-TTL:PT1440M
BEGIN:VTIMEZONE
TZID:America/Denver
BEGIN:DAYLIGHT
DTSTART:20250309T020000Z
TZOFFSETFROM:-0700
TZOFFSETTO:-0600
END:DAYLIGHT
BEGIN:STANDARD
DTSTART:20251102T020000Z
TZOFFSETFROM:-0600
TZOFFSETTO:-0700
END:STANDARD
BEGIN:DAYLIGHT
DTSTART:20260308T020000Z
TZOFFSETFROM:-0700
TZOFFSETTO:-0600
END:DAYLIGHT
END:VTIMEZONE
BEGIN:VTIMEZONE
TZID:UTC
BEGIN:STANDARD
DTSTART:20250726T091418Z
TZOFFSETFROM:+0000
TZOFFSETTO:+0000
END:STANDARD
END:VTIMEZONE
BEGIN:VEVENT
UID:3698-35
DTSTAMP:20260422T091418Z
SUMMARY:Veterans Day
LOCATION:Dakota Lodge 14422 W Ken Caryl Ave  Littleton CO 80127
ORGANIZER;CN=April Crockett:MAILTO:aprilc@kcranch.org
RRULE:FREQ=YEARLY;BYMONTH=11;BYDAY=11;UNTIL=20341111T000000Z
DTSTART;TZID=America/Denver:20251111T090000
DTEND;TZID=America/Denver:20251111T103000
X-ALT-DESC;FMTTYPE=TEXT/HTML:Please see our Special Events page for more 
 information. All facilities will be open for Veterans Day.
CATEGORIES:Special Events
URL;VALUE=URI:https://ken-carylranch.org/mc-events/veterans-day/?mc_id=3698
METHOD:PUBLISH
END:VEVENT
END:VCALENDAR