BEGIN:VCALENDAR
VERSION:2.0
PRODID:spatie/icalendar-generator
DESCRIPTION:Events from Ken-Caryl Ranch
X-WR-CALDESC:Events from Ken-Caryl Ranch
REFRESH-INTERVAL;VALUE=DURATION:PT1440M
X-PUBLISHED-TTL:PT1440M
BEGIN:VTIMEZONE
TZID:America/Denver
BEGIN:STANDARD
DTSTART:20251102T020000Z
TZOFFSETFROM:-0600
TZOFFSETTO:-0700
END:STANDARD
BEGIN:DAYLIGHT
DTSTART:20260308T020000Z
TZOFFSETFROM:-0700
TZOFFSETTO:-0600
END:DAYLIGHT
END:VTIMEZONE
BEGIN:VTIMEZONE
TZID:UTC
BEGIN:STANDARD
DTSTART:20250727T171735Z
TZOFFSETFROM:+0000
TZOFFSETTO:+0000
END:STANDARD
END:VTIMEZONE
BEGIN:VEVENT
UID:943-10
DTSTAMP:20260423T171735Z
SUMMARY:Babytime
LOCATION:Ranch House 7676 S Continental Divide Rd  Littleton  CO 80127
ORGANIZER;CN=April Crockett:MAILTO:aprilc@kcranch.org
RRULE:FREQ=WEEKLY;UNTIL=20340831T000000Z
DTSTART;TZID=America/Denver:20260423T093000
DTEND;TZID=America/Denver:20260423T100000
X-ALT-DESC;FMTTYPE=TEXT/HTML:Please join us with your little one for Babyti
 me at the Ranch House from 9:30-10 a.m. in the *Bradford Room at the Ranch
  House\, followed by Storytime at 10:15 a.m. This program is designed to h
 elp the littlest minds develop and grow. Bounce\, sing\, rhyme and read wi
 th your baby!
CATEGORIES:Special Events
URL;VALUE=URI:https://ken-carylranch.org/mc-events/babytime/?mc_id=943
METHOD:PUBLISH
END:VEVENT
END:VCALENDAR