BEGIN:VCALENDAR
VERSION:2.0
PRODID:spatie/icalendar-generator
DESCRIPTION:Events from Ken-Caryl Ranch
X-WR-CALDESC:Events from Ken-Caryl Ranch
REFRESH-INTERVAL;VALUE=DURATION:PT1440M
X-PUBLISHED-TTL:PT1440M
BEGIN:VTIMEZONE
TZID:America/Denver
BEGIN:STANDARD
DTSTART:20251102T020000Z
TZOFFSETFROM:-0600
TZOFFSETTO:-0700
END:STANDARD
BEGIN:DAYLIGHT
DTSTART:20260308T020000Z
TZOFFSETFROM:-0700
TZOFFSETTO:-0600
END:DAYLIGHT
BEGIN:STANDARD
DTSTART:20261101T020000Z
TZOFFSETFROM:-0600
TZOFFSETTO:-0700
END:STANDARD
END:VTIMEZONE
BEGIN:VTIMEZONE
TZID:UTC
BEGIN:STANDARD
DTSTART:20250727T171645Z
TZOFFSETFROM:+0000
TZOFFSETTO:+0000
END:STANDARD
END:VTIMEZONE
BEGIN:VEVENT
UID:2115-12
DTSTAMP:20260423T171645Z
SUMMARY:Storytime
LOCATION:Ranch House 7676 S Continental Divide Rd  Littleton  CO 80127
ORGANIZER;CN=April Crockett:MAILTO:aprilc@kcranch.org
DTSTART;TZID=America/Denver:20260430T101500
DTEND;TZID=America/Denver:20260430T104500
X-ALT-DESC;FMTTYPE=TEXT/HTML:Please join us with your little one for Storyt
 ime at the Ranch House from 10:15-10:45 a.m. in the Bradford Room at the R
 anch House. &amp;nbsp\;
CATEGORIES:Special Events
URL;VALUE=URI:https://ken-carylranch.org/mc-events/storytime/
METHOD:PUBLISH
END:VEVENT
END:VCALENDAR